BEGIN:VCALENDAR
VERSION:2.0
PRODID:-//eventon.com NONSGML v1.0//EN
CALSCALE:GREGORIAN
METHOD:PUBLISH
BEGIN:VEVENT
UID:69e77200dfeb1
DTSTAMP:20260421T124800Z
DTSTART:20201001T000000Z
DTEND:20201001T000000Z
LOCATION:Logan City
SUMMARY:Museum Curator: Kingston Butter Factory - Logan\,  QLD
DESCRIPTION:Kingston Butter Factory in Logan seeks a Museum Curator to joi
 n the creative team.  LEARN MORE\nhttps://flyingarts.org.au/events/museum-
 curator-kingston-butter-factory-logan-qld/
URL:https://flyingarts.org.au/events/museum-curator-kingston-butter-factory-logan-qld/
END:VEVENT
END:VCALENDAR