BEGIN:VCALENDAR
VERSION:2.0
PRODID:-//eventon.com NONSGML v1.0//EN
CALSCALE:GREGORIAN
METHOD:PUBLISH
BEGIN:VEVENT
UID:69e4f7e70c2e6
DTSTAMP:20260419T154231Z
DTSTART:20201123
DTEND:20201124
LOCATION:
SUMMARY:Queensland Arts Showcase Program (QASP): Arts QLD
DESCRIPTION:The Queensland Arts Showcase Program (QASP) supports vibrant
  and accessible arts and cultural experiences for Queensland by individuals
 \,  organisations or collectives. The QASP program is delivered through thr
 ee streams: Arts Accelerate\,  Arts Activate and Arts Advantage. Opening da
 te: 23 November 2020 Closing date: 20 December 2020 Funding announcement 
 (during week commencing): 1 February 2021 LEARN MORE\nhttps://flyingarts.o
 rg.au/events/queensland-arts-showcase-program-qasp-arts-qld-queensland/
URL:https://flyingarts.org.au/events/queensland-arts-showcase-program-qasp-arts-qld-queensland/
END:VEVENT
END:VCALENDAR