BEGIN:VCALENDAR
VERSION:2.0
PRODID:-//eventon.com NONSGML v1.0//EN
CALSCALE:GREGORIAN
METHOD:PUBLISH
BEGIN:VEVENT
UID:69e69b214fd50
DTSTAMP:20260420T213113Z
DTSTART:20210302
DTEND:20210303
LOCATION:
SUMMARY:ARTS PROJECTS FOR INDIVIDUALS AND GROUPS: Australia Council for the Arts
DESCRIPTION:This program funds a range of activities that deliver benefits 
 to the arts sector and wider public\,  including national and international
  audiences. Grants are available from $10\, 000 to $50\, 000. Supported act
 ivities must last no longer than two years from the proposed start date. LE
 ARN MORE\nhttps://flyingarts.org.au/events/arts-projects-for-individuals-an
 d-groups-australia-council-for-the-arts/
URL:https://flyingarts.org.au/events/arts-projects-for-individuals-and-groups-australia-council-for-the-arts/
END:VEVENT
END:VCALENDAR