BEGIN:VCALENDAR
VERSION:2.0
PRODID:-//eventon.com NONSGML v1.0//EN
CALSCALE:GREGORIAN
METHOD:PUBLISH
BEGIN:VEVENT
UID:69e7af01117a2
DTSTAMP:20260421T170817Z
DTSTART:20200831
DTEND:20200901
LOCATION:
SUMMARY:Restart Investment to Sustain and Expand (RISE) Fund: Australian Office for the Arts
DESCRIPTION:The RISE Fund is supporting the arts and entertainment sector t
 o reactivate. The program is targeting funding towards the arts and enterta
 inment sector organisations who are seeking to restart\,  re-imagine or cre
 ate new activities. The program is intended to assist by providing finance 
 to assist the presentation of new or[..]\nhttps://flyingarts.org.au/events/
 restart-investment-to-sustain-and-expand-rise-fund-australian-office-for-th
 e-arts/
URL:https://flyingarts.org.au/events/restart-investment-to-sustain-and-expand-rise-fund-australian-office-for-the-arts/
END:VEVENT
END:VCALENDAR