BEGIN:VCALENDAR
VERSION:2.0
PRODID:-//eventon.com NONSGML v1.0//EN
CALSCALE:GREGORIAN
METHOD:PUBLISH
BEGIN:VEVENT
UID:69eb3a8a36cc0
DTSTAMP:20260424T094026Z
DTSTART:20210101
DTEND:20210102
LOCATION:Gold Coast
SUMMARY:Geminate: Regional Arts Development Fund - Gold Coast\,  QLD
DESCRIPTION:Germinate supports Gold Coast creatives\,  organisations\,  col
 lectives and the community in the early stage development of new work\,  pr
 ofessional development\,  and collaborations. All applicants must be Gold C
 oast residents. LEARN MORE\nhttps://flyingarts.org.au/events/geminate-regio
 nal-arts-development-fund-gold-coast-qld/
URL:https://flyingarts.org.au/events/geminate-regional-arts-development-fund-gold-coast-qld/
END:VEVENT
END:VCALENDAR