BEGIN:VCALENDAR
VERSION:2.0
PRODID:-//eventon.com NONSGML v1.0//EN
CALSCALE:GREGORIAN
METHOD:PUBLISH
BEGIN:VEVENT
UID:69eb2925dcc8f
DTSTAMP:20260424T082613Z
DTSTART:20210928T230000Z
DTEND:20211001T070000Z
LOCATION:State Library\,  The Edge Stanley Place\,  South Brisbane\,  QLD\,  4101
SUMMARY:Art Innovation with State Library of Queensland for Educators
DESCRIPTION:Professional development day program for educators. Participant
 s will experiment with the latest technologies at The Edge exploring contem
 porary approaches to art making and digital media such as laser cutting\,  
 3D printing\,  electronics and much more. Led by expert makers and facilita
 tors\,  participants will get the opportunity to make objects to[..]\nhttps
 ://flyingarts.org.au/events/art-innovation-with-the-edge-for-educators/
URL:https://flyingarts.org.au/events/art-innovation-with-the-edge-for-educators/
END:VEVENT
END:VCALENDAR