BEGIN:VCALENDAR
VERSION:2.0
PRODID:-//eventon.com NONSGML v1.0//EN
CALSCALE:GREGORIAN
METHOD:PUBLISH
BEGIN:VEVENT
UID:69e5c1c398538
DTSTAMP:20260420T060347Z
DTSTART:20211118T230000Z
DTEND:20211119T070000Z
LOCATION:Your computer
SUMMARY:Consultations with Alison Shaw
DESCRIPTION:Please note these events are in-person at Grasslands Gallery\, 
  Tambo. Discuss your career or practice one-on-one with a respected arts in
 dustry professional.&nbsp;Alison Shaw&nbsp;is the&nbsp;Community Facilitato
 r at Blackall-Tambo Regional Council&nbsp;and she is a business&nbsp;entrep
 reneur.&nbsp;Alison can&nbsp;advise&nbsp;you on your career as an arts work
 er and discuss opportunities for regional artists and workers and[..]\nhttp
 s://flyingarts.org.au/events/consultations-with-alison-shaw/
URL:https://flyingarts.org.au/events/consultations-with-alison-shaw/
END:VEVENT
END:VCALENDAR