BEGIN:VCALENDAR
VERSION:2.0
PRODID:-//eventon.com NONSGML v1.0//EN
CALSCALE:GREGORIAN
METHOD:PUBLISH
BEGIN:VEVENT
UID:69e521310c645
DTSTAMP:20260419T183841Z
DTSTART:20210422T071500Z
DTEND:20210422T083000Z
LOCATION:
SUMMARY:RAF Workshop: Blackall
DESCRIPTION:A free community workshop about the Regional Arts Funding Strea
 ms available for regional artists and arts organisations or clubs. The work
 shop will cover eligible funding projects\,  how to complete the applicatio
 n including the budget. Date: Thursday 22 April Time: 5:15 pm Location: Cu
 ltural Centre\,  6 Coronation Drive\,  Blackall Qld 4472 RSVP[..]\nhttps://
 flyingarts.org.au/events/raf-workshop-blackall/
URL:https://flyingarts.org.au/events/raf-workshop-blackall/
END:VEVENT
END:VCALENDAR