BEGIN:VCALENDAR
VERSION:2.0
PRODID:-//eventon.com NONSGML v1.0//EN
CALSCALE:GREGORIAN
METHOD:PUBLISH
BEGIN:VEVENT
UID:69e5b9ebf1879
DTSTAMP:20260420T053019Z
DTSTART:20230312T230000Z
DTEND:20240304T060000Z
LOCATION:Consolidated Properties Group Level 8/175 Eagle Street
SUMMARY:The Mervyn Moriarty Landscape Award Exhibition 2023 - Brisbane
DESCRIPTION:Flying Art Alliance’s founder\,  Mervyn Moriarty OAM\,  was a
  legendary figure in the arts. He was an extraordinary art teacher and arti
 st with a passion to bring the arts to the rural\,  regional and remote pla
 ces. He learnt to fly to be able to achieve this passion. Honouring Mervyn 
 Moriarty’s[..]\nhttps://flyingarts.org.au/events/the-mervyn-moriarty-land
 scape-exhibition-brisbane-2023/
URL:https://flyingarts.org.au/events/the-mervyn-moriarty-landscape-exhibition-brisbane-2023/
END:VEVENT
END:VCALENDAR